BEGIN:VCALENDAR
VERSION:2.0
PRODID:-//Nordic Mont-Blanc - ECPv6.15.20//NONSGML v1.0//EN
CALSCALE:GREGORIAN
METHOD:PUBLISH
X-ORIGINAL-URL:https://nordicmontblanc.fr
X-WR-CALDESC:Évènements pour Nordic Mont-Blanc
REFRESH-INTERVAL;VALUE=DURATION:PT1H
X-Robots-Tag:noindex
X-PUBLISHED-TTL:PT1H
BEGIN:VTIMEZONE
TZID:Europe/Paris
BEGIN:DAYLIGHT
TZOFFSETFROM:+0100
TZOFFSETTO:+0200
TZNAME:CEST
DTSTART:20230326T010000
END:DAYLIGHT
BEGIN:STANDARD
TZOFFSETFROM:+0200
TZOFFSETTO:+0100
TZNAME:CET
DTSTART:20231029T010000
END:STANDARD
BEGIN:DAYLIGHT
TZOFFSETFROM:+0100
TZOFFSETTO:+0200
TZNAME:CEST
DTSTART:20240331T010000
END:DAYLIGHT
BEGIN:STANDARD
TZOFFSETFROM:+0200
TZOFFSETTO:+0100
TZNAME:CET
DTSTART:20241027T010000
END:STANDARD
BEGIN:DAYLIGHT
TZOFFSETFROM:+0100
TZOFFSETTO:+0200
TZNAME:CEST
DTSTART:20250330T010000
END:DAYLIGHT
BEGIN:STANDARD
TZOFFSETFROM:+0200
TZOFFSETTO:+0100
TZNAME:CET
DTSTART:20251026T010000
END:STANDARD
END:VTIMEZONE
BEGIN:VEVENT
DTSTART;TZID=Europe/Paris:20241112T183000
DTEND;TZID=Europe/Paris:20241112T203000
DTSTAMP:20260421T074708
CREATED:20241104T193510Z
LAST-MODIFIED:20241112T090450Z
UID:38016-1731436200-1731443400@nordicmontblanc.fr
SUMMARY:MN2 : Les granges de Luth
DESCRIPTION:Rendez vous 10mn avant la séance : Passer les lacs des Ilettes en venant de Sallanches par St Martin sur Arve.\nContinuer toujours tout droit. Passer la cascade d’Arpenaz\, continuer sur 400 m\, passer un pont (La Ripaz) et garez vous devant l’ONF\, à droite près de l’abri bus. \n\nATTENTION : FPO (Frontale Par Obligation) \n\nMerci de prévenir l’organisateur de votre présence par SMS ou WhatsApp
URL:https://nordicmontblanc.fr/event/mn2-les-granges-de-luth-14/
END:VEVENT
END:VCALENDAR