BEGIN:VCALENDAR
VERSION:2.0
PRODID:-//Nordic Mont-Blanc - ECPv6.15.20//NONSGML v1.0//EN
CALSCALE:GREGORIAN
METHOD:PUBLISH
X-ORIGINAL-URL:https://nordicmontblanc.fr
X-WR-CALDESC:Évènements pour Nordic Mont-Blanc
REFRESH-INTERVAL;VALUE=DURATION:PT1H
X-Robots-Tag:noindex
X-PUBLISHED-TTL:PT1H
BEGIN:VTIMEZONE
TZID:Europe/Paris
BEGIN:DAYLIGHT
TZOFFSETFROM:+0100
TZOFFSETTO:+0200
TZNAME:CEST
DTSTART:20250330T010000
END:DAYLIGHT
BEGIN:STANDARD
TZOFFSETFROM:+0200
TZOFFSETTO:+0100
TZNAME:CET
DTSTART:20251026T010000
END:STANDARD
BEGIN:DAYLIGHT
TZOFFSETFROM:+0100
TZOFFSETTO:+0200
TZNAME:CEST
DTSTART:20260329T010000
END:DAYLIGHT
BEGIN:STANDARD
TZOFFSETFROM:+0200
TZOFFSETTO:+0100
TZNAME:CET
DTSTART:20261025T010000
END:STANDARD
BEGIN:DAYLIGHT
TZOFFSETFROM:+0100
TZOFFSETTO:+0200
TZNAME:CEST
DTSTART:20270328T010000
END:DAYLIGHT
BEGIN:STANDARD
TZOFFSETFROM:+0200
TZOFFSETTO:+0100
TZNAME:CET
DTSTART:20271031T010000
END:STANDARD
END:VTIMEZONE
BEGIN:VEVENT
DTSTART;TZID=Europe/Paris:20260323T140000
DTEND;TZID=Europe/Paris:20260323T170000
DTSTAMP:20260421T152631
CREATED:20260224T150810Z
LAST-MODIFIED:20260224T151946Z
UID:38990-1774274400-1774285200@nordicmontblanc.fr
SUMMARY:MN1 MN2 Bettex / Plan de la Croix
DESCRIPTION:Rendez vous au cimetière de DOMANCY à 13h30 pour covoiturage. \n\n\n\nSinon départ à 14h du parking du Bettex \n\n\n11 km et 250 m de dénivelé positif \nPrévoir les petits crampons ! \nMerci de prévenir l’organisateur de votre présence par Whatsapp ou SMS.
URL:https://nordicmontblanc.fr/event/mn1-bettex-plan-de-la-croix-2/
END:VEVENT
END:VCALENDAR