BEGIN:VCALENDAR
VERSION:2.0
PRODID:-//Nordic Mont-Blanc - ECPv6.15.20//NONSGML v1.0//EN
CALSCALE:GREGORIAN
METHOD:PUBLISH
X-WR-CALNAME:Nordic Mont-Blanc
X-ORIGINAL-URL:https://nordicmontblanc.fr
X-WR-CALDESC:Évènements pour Nordic Mont-Blanc
REFRESH-INTERVAL;VALUE=DURATION:PT1H
X-Robots-Tag:noindex
X-PUBLISHED-TTL:PT1H
BEGIN:VTIMEZONE
TZID:Europe/Paris
BEGIN:DAYLIGHT
TZOFFSETFROM:+0100
TZOFFSETTO:+0200
TZNAME:CEST
DTSTART:20250330T010000
END:DAYLIGHT
BEGIN:STANDARD
TZOFFSETFROM:+0200
TZOFFSETTO:+0100
TZNAME:CET
DTSTART:20251026T010000
END:STANDARD
BEGIN:DAYLIGHT
TZOFFSETFROM:+0100
TZOFFSETTO:+0200
TZNAME:CEST
DTSTART:20260329T010000
END:DAYLIGHT
BEGIN:STANDARD
TZOFFSETFROM:+0200
TZOFFSETTO:+0100
TZNAME:CET
DTSTART:20261025T010000
END:STANDARD
BEGIN:DAYLIGHT
TZOFFSETFROM:+0100
TZOFFSETTO:+0200
TZNAME:CEST
DTSTART:20270328T010000
END:DAYLIGHT
BEGIN:STANDARD
TZOFFSETFROM:+0200
TZOFFSETTO:+0100
TZNAME:CET
DTSTART:20271031T010000
END:STANDARD
END:VTIMEZONE
BEGIN:VEVENT
DTSTART;TZID=Europe/Paris:20260324T140000
DTEND;TZID=Europe/Paris:20260324T170000
DTSTAMP:20260421T134244
CREATED:20260318T063842Z
LAST-MODIFIED:20260318T063842Z
UID:39037-1774360800-1774371600@nordicmontblanc.fr
SUMMARY:MN1 Marignier - Monnaz - Delanchy
DESCRIPTION:7km 230m D+ \nDépart de la mairie de Marignier à 14h. \nRendez-vous à 13h45 à la mairie d’Ayze pour covoiturage\, ou directement à la mairie de Marignier à 14h. \nMerci de prévenir l’organisateur de votre présence par sms ou WhatsApp
URL:https://nordicmontblanc.fr/event/mn1-marignier-monnaz-delanchy-8/
END:VEVENT
BEGIN:VEVENT
DTSTART;TZID=Europe/Paris:20260324T183000
DTEND;TZID=Europe/Paris:20260324T203000
DTSTAMP:20260421T134244
CREATED:20260216T192456Z
LAST-MODIFIED:20260216T192456Z
UID:38977-1774377000-1774384200@nordicmontblanc.fr
SUMMARY:MN2 Burzier / Mayères
DESCRIPTION:Rendez vous au cimetière de DOMANCY 30 minutes avant la séance pour covoiturage. \nDe l’église de Sallanches prendre la route de Doran\, passer le hameau des Houches puis monter à gauche jusqu’au parking de Burzier. \nRappel: présence 10 minutes avant la séance. Merci. \nATTENTION : FPO (Frontale Par Obligatoire) \nPrévenir l’organisateur de la séance par SMS de votre participation
URL:https://nordicmontblanc.fr/event/mn2-burzier-mayeres-18/
END:VEVENT
END:VCALENDAR